BEGIN:VCALENDAR
VERSION:2.0
PRODID:-//CSASK | College of Speech-Language Pathologists and Audiologists of Saskatchewan - ECPv6.15.20//NONSGML v1.0//EN
CALSCALE:GREGORIAN
METHOD:PUBLISH
X-ORIGINAL-URL:https://csask.ca
X-WR-CALDESC:Events for CSASK | College of Speech-Language Pathologists and Audiologists of Saskatchewan
REFRESH-INTERVAL;VALUE=DURATION:PT1H
X-Robots-Tag:noindex
X-PUBLISHED-TTL:PT1H
BEGIN:VTIMEZONE
TZID:America/Regina
BEGIN:STANDARD
TZOFFSETFROM:-0600
TZOFFSETTO:-0600
TZNAME:CST
DTSTART:20240101T000000
END:STANDARD
END:VTIMEZONE
BEGIN:VEVENT
DTSTART;TZID=America/Regina:20251106T073000
DTEND;TZID=America/Regina:20251106T160000
DTSTAMP:20260419T084315
CREATED:20251002T213831Z
LAST-MODIFIED:20251002T213831Z
UID:10000197-1762414200-1762444800@csask.ca
SUMMARY:SAC Online Workshop: SAC Dysphagia Virtual Workshop 2025
DESCRIPTION:This workshop is designed as a knowledge-sharing opportunity to bring together experts and practitioners from across the country to exchange evidence\, strategies\, and perspectives on swallowing and feeding care across the lifespan. \nThe program will highlight diverse contexts of practice\, from pediatric and neonatal care through to complex adult and end-of-life considerations. It will also include discussion of interprofessional approaches in areas such as stroke\, dementia\, cancer\, rehabilitation\, and long-term care. By creating space for dialogue and reflection\, this event aims to strengthen understanding of current practices and emerging issues in dysphagia care. \nWhile the workshop is of particular relevance to speech-language pathologists\, it is also intended to engage other health professionals\, researchers\, and advocates who contribute to advancing care for individuals with swallowing and feeding challenges. Participants may join live or access the recordings at their convenience until February 27\, 2026. \nMore information is available here.
URL:https://csask.ca/event/sac-online-workshop-sac-dysphagia-virtual-workshop-2025/
END:VEVENT
BEGIN:VEVENT
DTSTART;VALUE=DATE:20251127
DTEND;VALUE=DATE:20251129
DTSTAMP:20260419T084315
CREATED:20250122T210627Z
LAST-MODIFIED:20250122T210627Z
UID:10000177-1764201600-1764374399@csask.ca
SUMMARY:Orofacial Rest Posture Program (ORPP) Evaluation to Habituation: 28 Hour Orofacial Myofunctional Assessment and Treatment Course
DESCRIPTION:Join us for our 28 hour comprehensive orofacial myofunctional assessment and treatment course. Open to actively licensed Dental Hygienists\, Speech Language Pathologists\, Dentists and Orthodontists. Click here for more information. \nClick here to view brochure.
URL:https://csask.ca/event/orofacial-rest-posture-program-orpp-evaluation-to-habituation-28-hour-orofacial-myofunctional-assessment-and-treatment-course-3/
END:VEVENT
END:VCALENDAR