BEGIN:VCALENDAR
VERSION:2.0
PRODID:-//CSASK | College of Speech-Language Pathologists and Audiologists of Saskatchewan - ECPv6.15.20//NONSGML v1.0//EN
CALSCALE:GREGORIAN
METHOD:PUBLISH
X-ORIGINAL-URL:https://csask.ca
X-WR-CALDESC:Events for CSASK | College of Speech-Language Pathologists and Audiologists of Saskatchewan
REFRESH-INTERVAL;VALUE=DURATION:PT1H
X-Robots-Tag:noindex
X-PUBLISHED-TTL:PT1H
BEGIN:VTIMEZONE
TZID:America/Regina
BEGIN:STANDARD
TZOFFSETFROM:-0600
TZOFFSETTO:-0600
TZNAME:CST
DTSTART:20240101T000000
END:STANDARD
END:VTIMEZONE
BEGIN:VEVENT
DTSTART;TZID=America/Regina:20250507T080000
DTEND;TZID=America/Regina:20250507T170000
DTSTAMP:20260418T100137
CREATED:20250317T160801Z
LAST-MODIFIED:20250317T161114Z
UID:10000193-1746604800-1746637200@csask.ca
SUMMARY:Makers Making Change
DESCRIPTION:The Saskatchewan AAC Conference Committee is working in partnership with Makers Making Change (MMC) in hosting a fun STEM workshop. MMC is an online platform providing a disruptively low-cost alternative to commercially available assistive technologies. \nClick here for more information.
URL:https://csask.ca/event/makers-making-change-saskatoon-sk/2025-05-07/
END:VEVENT
BEGIN:VEVENT
DTSTART;TZID=America/Regina:20250509T100000
DTEND;TZID=America/Regina:20250509T150000
DTSTAMP:20260418T100137
CREATED:20250317T160801Z
LAST-MODIFIED:20250317T161114Z
UID:10000195-1746784800-1746802800@csask.ca
SUMMARY:Makers Making Change
DESCRIPTION:The Saskatchewan AAC Conference Committee is working in partnership with Makers Making Change (MMC) in hosting a fun STEM workshop. MMC is an online platform providing a disruptively low-cost alternative to commercially available assistive technologies. \nClick here for more information.
URL:https://csask.ca/event/makers-making-change-saskatoon-sk/2025-05-09/
END:VEVENT
BEGIN:VEVENT
DTSTART;TZID=America/Regina:20250514T083000
DTEND;TZID=America/Regina:20250514T153000
DTSTAMP:20260418T100137
CREATED:20250311T171600Z
LAST-MODIFIED:20250311T171600Z
UID:10000192-1747211400-1747236600@csask.ca
SUMMARY:Autism Strategies and Neurodiversity Affirming Practices in the Educational Setting
DESCRIPTION:Cari Ebert\, MS\, CCC-SLP\, will explore providing strength-based neurodiversity-affirming services to Autistic students in education. \nTo view brochure\, click here. \n 
URL:https://csask.ca/event/autism-strategies-and-neurodiversity-affirming-practices-in-the-educational-setting/
END:VEVENT
END:VCALENDAR