BEGIN:VCALENDAR
VERSION:2.0
PRODID:-//CSASK | College of Speech-Language Pathologists and Audiologists of Saskatchewan - ECPv6.15.20//NONSGML v1.0//EN
CALSCALE:GREGORIAN
METHOD:PUBLISH
X-WR-CALNAME:CSASK | College of Speech-Language Pathologists and Audiologists of Saskatchewan
X-ORIGINAL-URL:https://csask.ca
X-WR-CALDESC:Events for CSASK | College of Speech-Language Pathologists and Audiologists of Saskatchewan
REFRESH-INTERVAL;VALUE=DURATION:PT1H
X-Robots-Tag:noindex
X-PUBLISHED-TTL:PT1H
BEGIN:VTIMEZONE
TZID:America/Regina
BEGIN:STANDARD
TZOFFSETFROM:-0600
TZOFFSETTO:-0600
TZNAME:CST
DTSTART:20240101T000000
END:STANDARD
END:VTIMEZONE
BEGIN:VEVENT
DTSTART;VALUE=DATE:20250403
DTEND;VALUE=DATE:20250405
DTSTAMP:20260419T182947
CREATED:20250122T210257Z
LAST-MODIFIED:20250122T210505Z
UID:10000175-1743638400-1743811199@csask.ca
SUMMARY:Orofacial Rest Posture Program (ORPP) Evaluation to Habituation: 28 Hour Orofacial Myofunctional Assessment and Treatment Course
DESCRIPTION:Join us for our 28 hour comprehensive orofacial myofunctional assessment and treatment course. Open to actively licensed Dental Hygienists\, Speech Language Pathologists\, Dentists and Orthodontists. Click here for more information. \nClick here to view brochure.
URL:https://csask.ca/event/orofacial-rest-posture-program-orpp-evaluation-to-habituation-28-hour-orofacial-myofunctional-assessment-and-treatment-course/
END:VEVENT
BEGIN:VEVENT
DTSTART;VALUE=DATE:20250410
DTEND;VALUE=DATE:20250412
DTSTAMP:20260419T182947
CREATED:20250122T210535Z
LAST-MODIFIED:20250122T210535Z
UID:10000176-1744243200-1744415999@csask.ca
SUMMARY:Orofacial Rest Posture Program (ORPP) Evaluation to Habituation: 28 Hour Orofacial Myofunctional Assessment and Treatment Course
DESCRIPTION:Join us for our 28 hour comprehensive orofacial myofunctional assessment and treatment course. Open to actively licensed Dental Hygienists\, Speech Language Pathologists\, Dentists and Orthodontists. Click here for more information. \nClick here to view brochure.
URL:https://csask.ca/event/orofacial-rest-posture-program-orpp-evaluation-to-habituation-28-hour-orofacial-myofunctional-assessment-and-treatment-course-2/
END:VEVENT
BEGIN:VEVENT
DTSTART;TZID=America/Regina:20250416T120000
DTEND;TZID=America/Regina:20250416T180000
DTSTAMP:20260419T182947
CREATED:20250110T213643Z
LAST-MODIFIED:20250110T214154Z
UID:10000173-1744804800-1744826400@csask.ca
SUMMARY:5th Annual Virtual Audiology Conference
DESCRIPTION:Join us at the 5th Annual Audiology Conference\, the premier virtual event for audiology professionals\, researchers\, students\, and clinicians. This conference brings together leading professionals\, researchers\, and clinicians from around the world to share the latest innovations\, research findings\, and best practices in hearing science and patient care. \nOver the course of 3 days expert speakers will discuss a wide range of topics focusing on screening and evaluation\, intervention using CAPD\, considerations for working with underserved populations\, and more. \nThis event is designed for audiologists\, researchers\, clinicians\, and students seeking to deepen their knowledge and stay informed on the rapidly evolving field of audiology. The focus is entirely on advancing professional expertise and exploring the clinical applications of recent advancements in the science of hearing and balance. \nCEUs are available for this event \nTo register for this event click here.
URL:https://csask.ca/event/5th-annual-virtual-audiology-conference/2025-04-16/
END:VEVENT
END:VCALENDAR