BEGIN:VCALENDAR
VERSION:2.0
PRODID:-//CSASK | College of Speech-Language Pathologists and Audiologists of Saskatchewan - ECPv6.15.20//NONSGML v1.0//EN
CALSCALE:GREGORIAN
METHOD:PUBLISH
X-WR-CALNAME:CSASK | College of Speech-Language Pathologists and Audiologists of Saskatchewan
X-ORIGINAL-URL:https://csask.ca
X-WR-CALDESC:Events for CSASK | College of Speech-Language Pathologists and Audiologists of Saskatchewan
REFRESH-INTERVAL;VALUE=DURATION:PT1H
X-Robots-Tag:noindex
X-PUBLISHED-TTL:PT1H
BEGIN:VTIMEZONE
TZID:America/Regina
BEGIN:STANDARD
TZOFFSETFROM:-0600
TZOFFSETTO:-0600
TZNAME:CST
DTSTART:20240101T000000
END:STANDARD
END:VTIMEZONE
BEGIN:VEVENT
DTSTART;TZID=America/Regina:20251106T073000
DTEND;TZID=America/Regina:20251106T160000
DTSTAMP:20260419T200730
CREATED:20251002T213831Z
LAST-MODIFIED:20251002T213831Z
UID:10000197-1762414200-1762444800@csask.ca
SUMMARY:SAC Online Workshop: SAC Dysphagia Virtual Workshop 2025
DESCRIPTION:This workshop is designed as a knowledge-sharing opportunity to bring together experts and practitioners from across the country to exchange evidence\, strategies\, and perspectives on swallowing and feeding care across the lifespan. \nThe program will highlight diverse contexts of practice\, from pediatric and neonatal care through to complex adult and end-of-life considerations. It will also include discussion of interprofessional approaches in areas such as stroke\, dementia\, cancer\, rehabilitation\, and long-term care. By creating space for dialogue and reflection\, this event aims to strengthen understanding of current practices and emerging issues in dysphagia care. \nWhile the workshop is of particular relevance to speech-language pathologists\, it is also intended to engage other health professionals\, researchers\, and advocates who contribute to advancing care for individuals with swallowing and feeding challenges. Participants may join live or access the recordings at their convenience until February 27\, 2026. \nMore information is available here.
URL:https://csask.ca/event/sac-online-workshop-sac-dysphagia-virtual-workshop-2025/
END:VEVENT
BEGIN:VEVENT
DTSTART;VALUE=DATE:20251127
DTEND;VALUE=DATE:20251129
DTSTAMP:20260419T200730
CREATED:20250122T210627Z
LAST-MODIFIED:20250122T210627Z
UID:10000177-1764201600-1764374399@csask.ca
SUMMARY:Orofacial Rest Posture Program (ORPP) Evaluation to Habituation: 28 Hour Orofacial Myofunctional Assessment and Treatment Course
DESCRIPTION:Join us for our 28 hour comprehensive orofacial myofunctional assessment and treatment course. Open to actively licensed Dental Hygienists\, Speech Language Pathologists\, Dentists and Orthodontists. Click here for more information. \nClick here to view brochure.
URL:https://csask.ca/event/orofacial-rest-posture-program-orpp-evaluation-to-habituation-28-hour-orofacial-myofunctional-assessment-and-treatment-course-3/
END:VEVENT
BEGIN:VEVENT
DTSTART;VALUE=DATE:20251204
DTEND;VALUE=DATE:20251206
DTSTAMP:20260419T200730
CREATED:20250122T210645Z
LAST-MODIFIED:20250122T210645Z
UID:10000178-1764806400-1764979199@csask.ca
SUMMARY:Orofacial Rest Posture Program (ORPP) Evaluation to Habituation: 28 Hour Orofacial Myofunctional Assessment and Treatment Course
DESCRIPTION:Join us for our 28 hour comprehensive orofacial myofunctional assessment and treatment course. Open to actively licensed Dental Hygienists\, Speech Language Pathologists\, Dentists and Orthodontists. Click here for more information. \nClick here to view brochure.
URL:https://csask.ca/event/orofacial-rest-posture-program-orpp-evaluation-to-habituation-28-hour-orofacial-myofunctional-assessment-and-treatment-course-4/
END:VEVENT
BEGIN:VEVENT
DTSTART;TZID=America/Regina:20260304T190000
DTEND;TZID=America/Regina:20260304T203000
DTSTAMP:20260419T200730
CREATED:20260210T175707Z
LAST-MODIFIED:20260210T175707Z
UID:10000200-1772650800-1772656200@csask.ca
SUMMARY:FREE Webinar: Professional Liability Insurance: Regulatory Requirements and Risk Considerations for Rehabilitation Professionals in Saskatchewan
DESCRIPTION:March 4\, 2026 – 7:00-8:30pm \nRegulators and professional bodies for occupational therapy\, speech language pathology\, and audiology along with the University of Saskatchewan\, legal counsel and insurance providers are collaborating to discuss malpractice insurance requirements in Saskatchewan. \nClick here to register or submit a question for the presenters.
URL:https://csask.ca/event/free-webinar-professional-liability-insurance-regulatory-requirements-and-risk-considerations-for-rehabilitation-professionals-in-saskatchewan/
END:VEVENT
BEGIN:VEVENT
DTSTART;VALUE=DATE:20260323
DTEND;VALUE=DATE:20260324
DTSTAMP:20260419T200730
CREATED:20260119T163142Z
LAST-MODIFIED:20260119T163150Z
UID:10000199-1774224000-1774310399@csask.ca
SUMMARY:2026 Oarc Annual Conference
DESCRIPTION:AAC Essentials: What Every Communication Partner Needs to Know \nThis interactive learning experience explores innovative\, evidence informed approaches to supporting language acquisition for students of all ages and communication profiles. By creating enriched communication environments\, participants will learn how to increase meaningful language opportunities within everyday routines while honoring diverse language learning pathways\, including gestalt language processing. \nParticipants will gain practical insights into current best practices for augmentative and alternative communication (AAC)\, including supporting language development\, selecting robust and functional vocabulary\, and fostering sustained engagement among AAC users. The session will also address advanced-level topics related to AAC assessment and implementation\, with strategies for identifying and reducing common barriers through a coaching-centered model. \nTo view poster click here.
URL:https://csask.ca/event/2026-oarc-annual-conference/
END:VEVENT
BEGIN:VEVENT
DTSTART;VALUE=DATE:20260423
DTEND;VALUE=DATE:20260425
DTSTAMP:20260419T200730
CREATED:20251106T214542Z
LAST-MODIFIED:20260202T163711Z
UID:10000198-1776902400-1777075199@csask.ca
SUMMARY:Save the Date: Where It's At SK Presents - 2026 Conference
DESCRIPTION:Two days of inspiring keynote speeches\, vendor breakout sessions\, and a trade show featuring local companies\, national companies and nonprofit organizations. \nTo view poster click here.
URL:https://csask.ca/event/where-its-at-sk-presents-2026-conference/
END:VEVENT
END:VCALENDAR